BEGIN:VCALENDAR
VERSION:2.0
PRODID:-//Sabre//Sabre VObject 4.5.7//EN
CALSCALE:GREGORIAN
BEGIN:VEVENT
UID:sabre-vobject-69af657f-2db9-4f2e-afdb-3911eadb618f
DTSTAMP:20260421T090341Z
SUMMARY:Konzert von Ehepaar Morishita (Violine/Klavier) im Vortragssaal des
  PFL
DESCRIPTION:Auch in diesem Jahr konnten wir das Ehepaar Morishita f&uuml\;r
  eine Konzertvorf&uuml\;hrung gewinnen. Aus termilichen Verpflichtungen de
 s Musikerehepaars findet das Konzert an einem Samstag statt. Das genaue Pr
 ogramm des Konzerts erfahren Sie sp&auml\;ter hier.&nbsp\;\n
X-ALT-DESC:FMTTYPE=text/html:<!DOCTYPE HTML PUBLIC "-//W3C//DTD HTML 3.2//E
 N"><HTML><p>Auch in diesem Jahr konnten wir das Ehepaar Morishita f&uuml\;
 r eine Konzertvorf&uuml\;hrung gewinnen. Aus termilichen Verpflichtungen d
 es Musikerehepaars findet das Konzert an einem Samstag statt. Das genaue P
 rogramm des Konzerts erfahren Sie sp&auml\;ter hier.&nbsp\;</p>\n</HTML>
CREATED;TZID=Europe/Berlin:20260411T172832
URL;VALUE=URI:https://djg-oldenburg.de/veranstaltungen/konzert-von-ehepaar-
 morishita-violineklavier-im-vortragssaal-des-pfl
DTSTART;TZID=Europe/Berlin:20260801T150000
DTEND;TZID=Europe/Berlin:20260801T170000
SEQUENCE:0
END:VEVENT
END:VCALENDAR
